
BEGIN:VCALENDAR
VERSION:2.0
PRODID:-//Earlham College - ECPv6.15.20//NONSGML v1.0//EN
CALSCALE:GREGORIAN
METHOD:PUBLISH
X-ORIGINAL-URL:https://earlham.edu
X-WR-CALDESC:Events for Earlham College
REFRESH-INTERVAL;VALUE=DURATION:PT1H
X-Robots-Tag:noindex
X-PUBLISHED-TTL:PT1H
BEGIN:VTIMEZONE
TZID:America/Indiana/Indianapolis
BEGIN:DAYLIGHT
TZOFFSETFROM:-0500
TZOFFSETTO:-0400
TZNAME:EDT
DTSTART:20210314T070000
END:DAYLIGHT
BEGIN:STANDARD
TZOFFSETFROM:-0400
TZOFFSETTO:-0500
TZNAME:EST
DTSTART:20211107T060000
END:STANDARD
BEGIN:DAYLIGHT
TZOFFSETFROM:-0500
TZOFFSETTO:-0400
TZNAME:EDT
DTSTART:20220313T070000
END:DAYLIGHT
BEGIN:STANDARD
TZOFFSETFROM:-0400
TZOFFSETTO:-0500
TZNAME:EST
DTSTART:20221106T060000
END:STANDARD
BEGIN:DAYLIGHT
TZOFFSETFROM:-0500
TZOFFSETTO:-0400
TZNAME:EDT
DTSTART:20230312T070000
END:DAYLIGHT
BEGIN:STANDARD
TZOFFSETFROM:-0400
TZOFFSETTO:-0500
TZNAME:EST
DTSTART:20231105T060000
END:STANDARD
BEGIN:DAYLIGHT
TZOFFSETFROM:-0500
TZOFFSETTO:-0400
TZNAME:EDT
DTSTART:20240310T070000
END:DAYLIGHT
BEGIN:STANDARD
TZOFFSETFROM:-0400
TZOFFSETTO:-0500
TZNAME:EST
DTSTART:20241103T060000
END:STANDARD
BEGIN:DAYLIGHT
TZOFFSETFROM:-0500
TZOFFSETTO:-0400
TZNAME:EDT
DTSTART:20250309T070000
END:DAYLIGHT
BEGIN:STANDARD
TZOFFSETFROM:-0400
TZOFFSETTO:-0500
TZNAME:EST
DTSTART:20251102T060000
END:STANDARD
BEGIN:DAYLIGHT
TZOFFSETFROM:-0500
TZOFFSETTO:-0400
TZNAME:EDT
DTSTART:20260308T070000
END:DAYLIGHT
BEGIN:STANDARD
TZOFFSETFROM:-0400
TZOFFSETTO:-0500
TZNAME:EST
DTSTART:20261101T060000
END:STANDARD
BEGIN:DAYLIGHT
TZOFFSETFROM:-0500
TZOFFSETTO:-0400
TZNAME:EDT
DTSTART:20270314T070000
END:DAYLIGHT
BEGIN:STANDARD
TZOFFSETFROM:-0400
TZOFFSETTO:-0500
TZNAME:EST
DTSTART:20271107T060000
END:STANDARD
END:VTIMEZONE
BEGIN:VEVENT
DTSTART;TZID=America/Indiana/Indianapolis:20260215T160000
DTEND;TZID=America/Indiana/Indianapolis:20260215T170000
DTSTAMP:20260424T121105
CREATED:20260211T133859Z
LAST-MODIFIED:20260211T134858Z
UID:10000389-1771171200-1771174800@earlham.edu
SUMMARY:Painting a Path Forward: Community\, Care\, and Collective Imagination
DESCRIPTION:The Earlham community is invited to join New York artist and author Katie Yamasaki ’99 for a talk followed by Q&A.  Katie Yamasaki is based in Brooklyn\, NY\, and is an award winning author\, illustrator\, and muralist whose books and public art have been widely recognized and featured by major media outlets and cultural institutions.
URL:https://earlham.edu/event/painting-a-path-forward-community-care-and-collective-imagination/
LOCATION:Wilkinson Theatre\, SW G St\, Richmond\, IN\, 47374\, United States
CATEGORIES:Campus Life
ATTACH;FMTTYPE=image/webp:https://earlham.edu/wp-content/uploads/2026/02/Katie-headshot2020.webp
GEO:39.8210682;-84.9128172
X-APPLE-STRUCTURED-LOCATION;VALUE=URI;X-ADDRESS=Wilkinson Theatre SW G St Richmond IN 47374 United States;X-APPLE-RADIUS=500;X-TITLE=SW G St:geo:-84.9128172,39.8210682
END:VEVENT
BEGIN:VEVENT
DTSTART;TZID=America/Indiana/Indianapolis:20250829T190000
DTEND;TZID=America/Indiana/Indianapolis:20250829T203000
DTSTAMP:20260424T121105
CREATED:20250820T192552Z
LAST-MODIFIED:20250820T192555Z
UID:10000176-1756494000-1756499400@earlham.edu
SUMMARY:Ramos Campos
DESCRIPTION:Hear from Ramos Campos and enjoy a Mocktail Social Hour.
URL:https://earlham.edu/event/ramos-campos-2/
LOCATION:Wilkinson Theatre\, SW G St\, Richmond\, IN\, 47374\, United States
CATEGORIES:Campus Life
GEO:39.8210682;-84.9128172
X-APPLE-STRUCTURED-LOCATION;VALUE=URI;X-ADDRESS=Wilkinson Theatre SW G St Richmond IN 47374 United States;X-APPLE-RADIUS=500;X-TITLE=SW G St:geo:-84.9128172,39.8210682
END:VEVENT
BEGIN:VEVENT
DTSTART;TZID=America/Indiana/Indianapolis:20220830T190000
DTEND;TZID=America/Indiana/Indianapolis:20220830T220000
DTSTAMP:20260424T121105
CREATED:20220816T133420Z
LAST-MODIFIED:20250820T143417Z
UID:10000027-1661886000-1661896800@earlham.edu
SUMMARY:Love's Labours Lost Open Auditions
DESCRIPTION: OPEN AUDITIONS for the Theatre Arts Department production of Love’s Labours Lost by William Shakespeare will take place from 7pm to 10pm on Monday August 29th and Tuesday August 30th in Runyan Center’s Wilkinson Theatre.  (Call-back auditions will be scheduled for Wednesday August 31st.) Register for open auditions!  About the playThe King of Navarre and his friends make a pact to get serious about their studies.  But when the Princess of France and her friends arrive for a diplomatic visit\, romantic distractions prevail.  The students try to reason their way out of temptation but poetry and pranks challenge an over-serious academy with humor and youthful impulses.  The heart and the head aren’t too far apart as the pleasures of summer come to an end and these young adults choose which moments to cherish and what follies to leave behind.   PerformancesNovember 10\, 11 & 12   at 7:30pm\nWilkinson Theatre\nRunning Time: aprx. 2 hours.   Casting criteriaThere are roles for 15 actors of all gender identities\, racial and ethnic backgrounds\, body types\, abilities\, ages\, and experience levels. All roles are available.  We will start with the assumption that anybody can play any role; the audition form provides opportunities to note your gender identity\, sexual orientation and roles of interest.   Character descriptionsKING FERDINAND of Navarre – thinks uninterrupted studies will make Navarre a wonder of the world   The King’s Friends and Classmates:BEROWNE – a scholarly wit with a well-earned reputation for mockery\nLONGAVILLE – convinced 3 years without romance is doable\, challenges Berowne’s wit\nDUMAINE – youngest of the friends\, an unskilled poet\, loves to mock Berowne\nPRINCESS of France – Responsible\, fun\, kind. Manages a tough situation with wit   The Princess; Friends and Attendants:ROSALINE\, witty & intelligent\, refuses to be impressed by Berowne’s professions of love\nMARIA\, met Longaville at a family wedding and liked him: sees him for what he is\nKATHERINE\, quick witted as Rosaline\, recognizes Dumaine has some growing up to do\nBOYET\, a gossipy chaperone and counselor attending the members of the French Court\nARMADO\, committed to studies\, braggart\, thinks self finer than he is\, obsessed with Jaquenetta\nJAQUENETTA\, a simple\, honest\, accomplished gardener\, pregnant with Armado’s child\nCOSTARD\, illiterate local\, witty word lover\, works at the castle\, attracted to Jaqunetta\nDULL\, local constable\, plain-spoken\, blunt – admits to not understanding high language\nHOLOFERNES\, the professor/schoolmaster.  A snooty linguistic perscriptivist.\nNATHANIEL\, the curate\, impressed by higher education – respects Holofernes. A gentle soul. Read the script for Love’s Labours Lost (working copy). Audition preparationPrepare a one-minute monologue (your choice or an excerpt from the show).  You will also be asked to read at least one scene from the show.  A link to monologues from the show and scenes that will be read is available at the bottom of the form you will fill out when you make an audition appointment.  Hard copies will be available at the audition. Please include your commitments/conflicts on the audition form to the best of your ability and bring your calendar with you to the audition.  For more information and access to audition materials\, you can also email Lynne Perkins Socey (perkily@earlham.edu).   Rehearsal scheduleMost rehearsals will be scheduled between 7pm and 10pm Mondays through Thursdays.  (A few rehearsals will end at 10:30pm.)  Time will be managed as efficiently as possible; actor calls and ending times will be pre-established and honored as in a professional setting. NOTE: there will be one Sunday afternoon on October 16th. (see link to Production Calendar at bottom of audition form for more details.)   Earlham Theatre Arts Conscious Casting PolicyTheatre is the art of empathy. We choose to produce plays that serve the Earlham\, Richmond\, and greater Wayne County communities. In alignment with our anti-racist theatre ethos\, we are committed to conscious casting practices. Students\, faculty\, staff\, and community members of all genders\, ages\, body types\, abilities\, races\, ethnicities\, religions\, and experience levels are encouraged to audition for Earlham Theatre Arts Department productions. The first priority is to cast students in roles that will challenge them while serving the needs of the production. Guest actors are cast when their contributions to the production will enrich student learning and enhance production quality.   Production teamDirector  – Lynne Perkins Socey\nStage Manager – TBA\nScenic & Lighting Design and Tech Director – Emmy Weldon\nCostume Designer and Shop Manager – Lirit Pendel\nSound Designer – TBA\nText & Speech Coach – TBA\nDramaturg – TBA\nMarketing & Promotions – Austi Jenkins and TBA
URL:https://earlham.edu/event/loves-labours-lost-open-auditions/2022-08-30/
LOCATION:Wilkinson Theatre\, SW G St\, Richmond\, IN\, 47374\, United States
CATEGORIES:Visual & Performing Arts
ATTACH;FMTTYPE=image/jpeg:https://earlham.edu/wp-content/uploads/2022/08/LLL-Logo-with-playwright-horizontal.jpeg
GEO:39.8210682;-84.9128172
X-APPLE-STRUCTURED-LOCATION;VALUE=URI;X-ADDRESS=Wilkinson Theatre SW G St Richmond IN 47374 United States;X-APPLE-RADIUS=500;X-TITLE=SW G St:geo:-84.9128172,39.8210682
END:VEVENT
BEGIN:VEVENT
DTSTART;TZID=America/Indiana/Indianapolis:20220829T190000
DTEND;TZID=America/Indiana/Indianapolis:20220829T220000
DTSTAMP:20260424T121105
CREATED:20220816T133420Z
LAST-MODIFIED:20250820T143417Z
UID:10000026-1661799600-1661810400@earlham.edu
SUMMARY:Love's Labours Lost Open Auditions
DESCRIPTION: OPEN AUDITIONS for the Theatre Arts Department production of Love’s Labours Lost by William Shakespeare will take place from 7pm to 10pm on Monday August 29th and Tuesday August 30th in Runyan Center’s Wilkinson Theatre.  (Call-back auditions will be scheduled for Wednesday August 31st.) Register for open auditions!  About the playThe King of Navarre and his friends make a pact to get serious about their studies.  But when the Princess of France and her friends arrive for a diplomatic visit\, romantic distractions prevail.  The students try to reason their way out of temptation but poetry and pranks challenge an over-serious academy with humor and youthful impulses.  The heart and the head aren’t too far apart as the pleasures of summer come to an end and these young adults choose which moments to cherish and what follies to leave behind.   PerformancesNovember 10\, 11 & 12   at 7:30pm\nWilkinson Theatre\nRunning Time: aprx. 2 hours.   Casting criteriaThere are roles for 15 actors of all gender identities\, racial and ethnic backgrounds\, body types\, abilities\, ages\, and experience levels. All roles are available.  We will start with the assumption that anybody can play any role; the audition form provides opportunities to note your gender identity\, sexual orientation and roles of interest.   Character descriptionsKING FERDINAND of Navarre – thinks uninterrupted studies will make Navarre a wonder of the world   The King’s Friends and Classmates:BEROWNE – a scholarly wit with a well-earned reputation for mockery\nLONGAVILLE – convinced 3 years without romance is doable\, challenges Berowne’s wit\nDUMAINE – youngest of the friends\, an unskilled poet\, loves to mock Berowne\nPRINCESS of France – Responsible\, fun\, kind. Manages a tough situation with wit   The Princess; Friends and Attendants:ROSALINE\, witty & intelligent\, refuses to be impressed by Berowne’s professions of love\nMARIA\, met Longaville at a family wedding and liked him: sees him for what he is\nKATHERINE\, quick witted as Rosaline\, recognizes Dumaine has some growing up to do\nBOYET\, a gossipy chaperone and counselor attending the members of the French Court\nARMADO\, committed to studies\, braggart\, thinks self finer than he is\, obsessed with Jaquenetta\nJAQUENETTA\, a simple\, honest\, accomplished gardener\, pregnant with Armado’s child\nCOSTARD\, illiterate local\, witty word lover\, works at the castle\, attracted to Jaqunetta\nDULL\, local constable\, plain-spoken\, blunt – admits to not understanding high language\nHOLOFERNES\, the professor/schoolmaster.  A snooty linguistic perscriptivist.\nNATHANIEL\, the curate\, impressed by higher education – respects Holofernes. A gentle soul. Read the script for Love’s Labours Lost (working copy). Audition preparationPrepare a one-minute monologue (your choice or an excerpt from the show).  You will also be asked to read at least one scene from the show.  A link to monologues from the show and scenes that will be read is available at the bottom of the form you will fill out when you make an audition appointment.  Hard copies will be available at the audition. Please include your commitments/conflicts on the audition form to the best of your ability and bring your calendar with you to the audition.  For more information and access to audition materials\, you can also email Lynne Perkins Socey (perkily@earlham.edu).   Rehearsal scheduleMost rehearsals will be scheduled between 7pm and 10pm Mondays through Thursdays.  (A few rehearsals will end at 10:30pm.)  Time will be managed as efficiently as possible; actor calls and ending times will be pre-established and honored as in a professional setting. NOTE: there will be one Sunday afternoon on October 16th. (see link to Production Calendar at bottom of audition form for more details.)   Earlham Theatre Arts Conscious Casting PolicyTheatre is the art of empathy. We choose to produce plays that serve the Earlham\, Richmond\, and greater Wayne County communities. In alignment with our anti-racist theatre ethos\, we are committed to conscious casting practices. Students\, faculty\, staff\, and community members of all genders\, ages\, body types\, abilities\, races\, ethnicities\, religions\, and experience levels are encouraged to audition for Earlham Theatre Arts Department productions. The first priority is to cast students in roles that will challenge them while serving the needs of the production. Guest actors are cast when their contributions to the production will enrich student learning and enhance production quality.   Production teamDirector  – Lynne Perkins Socey\nStage Manager – TBA\nScenic & Lighting Design and Tech Director – Emmy Weldon\nCostume Designer and Shop Manager – Lirit Pendel\nSound Designer – TBA\nText & Speech Coach – TBA\nDramaturg – TBA\nMarketing & Promotions – Austi Jenkins and TBA
URL:https://earlham.edu/event/loves-labours-lost-open-auditions/2022-08-29/
LOCATION:Wilkinson Theatre\, SW G St\, Richmond\, IN\, 47374\, United States
CATEGORIES:Visual & Performing Arts
ATTACH;FMTTYPE=image/jpeg:https://earlham.edu/wp-content/uploads/2022/08/LLL-Logo-with-playwright-horizontal.jpeg
GEO:39.8210682;-84.9128172
X-APPLE-STRUCTURED-LOCATION;VALUE=URI;X-ADDRESS=Wilkinson Theatre SW G St Richmond IN 47374 United States;X-APPLE-RADIUS=500;X-TITLE=SW G St:geo:-84.9128172,39.8210682
END:VEVENT
END:VCALENDAR