
BEGIN:VCALENDAR
VERSION:2.0
PRODID:-//Earlham College - ECPv6.15.20//NONSGML v1.0//EN
CALSCALE:GREGORIAN
METHOD:PUBLISH
X-ORIGINAL-URL:https://earlham.edu
X-WR-CALDESC:Events for Earlham College
REFRESH-INTERVAL;VALUE=DURATION:PT1H
X-Robots-Tag:noindex
X-PUBLISHED-TTL:PT1H
BEGIN:VTIMEZONE
TZID:America/Indiana/Indianapolis
BEGIN:DAYLIGHT
TZOFFSETFROM:-0500
TZOFFSETTO:-0400
TZNAME:EDT
DTSTART:20240310T070000
END:DAYLIGHT
BEGIN:STANDARD
TZOFFSETFROM:-0400
TZOFFSETTO:-0500
TZNAME:EST
DTSTART:20241103T060000
END:STANDARD
BEGIN:DAYLIGHT
TZOFFSETFROM:-0500
TZOFFSETTO:-0400
TZNAME:EDT
DTSTART:20250309T070000
END:DAYLIGHT
BEGIN:STANDARD
TZOFFSETFROM:-0400
TZOFFSETTO:-0500
TZNAME:EST
DTSTART:20251102T060000
END:STANDARD
BEGIN:DAYLIGHT
TZOFFSETFROM:-0500
TZOFFSETTO:-0400
TZNAME:EDT
DTSTART:20260308T070000
END:DAYLIGHT
BEGIN:STANDARD
TZOFFSETFROM:-0400
TZOFFSETTO:-0500
TZNAME:EST
DTSTART:20261101T060000
END:STANDARD
END:VTIMEZONE
BEGIN:VEVENT
DTSTART;TZID=America/Indiana/Indianapolis:20250913T153000
DTEND;TZID=America/Indiana/Indianapolis:20250913T173000
DTSTAMP:20260419T081551
CREATED:20250820T195741Z
LAST-MODIFIED:20250911T233322Z
UID:10000191-1757777400-1757784600@earlham.edu
SUMMARY:Earlham College Men's Soccer vs Indiana University East
DESCRIPTION:Earlham College Men’s Soccer vs Indiana University East\nStreaming Video: Watch livestream (during the event)
URL:https://earlham.edu/event/earlham-college-mens-soccer-vs-indiana-university-east/
LOCATION:Richmond\, IN\, Matlack-Messer Soccer Stadium\, Southwest G Street\, Richmond\, Indiana\, 47374\, United States
CATEGORIES:Athletics
GEO:39.8210734;-84.9145001
X-APPLE-STRUCTURED-LOCATION;VALUE=URI;X-ADDRESS=Richmond IN Matlack-Messer Soccer Stadium Southwest G Street Richmond Indiana 47374 United States;X-APPLE-RADIUS=500;X-TITLE=Southwest G Street:geo:-84.9145001,39.8210734
END:VEVENT
BEGIN:VEVENT
DTSTART;TZID=America/Indiana/Indianapolis:20250913T130000
DTEND;TZID=America/Indiana/Indianapolis:20250913T150000
DTSTAMP:20260419T081551
CREATED:20250820T195735Z
LAST-MODIFIED:20250911T233359Z
UID:10000186-1757768400-1757775600@earlham.edu
SUMMARY:Earlham College Women's Soccer vs Indiana University East
DESCRIPTION:Earlham College Women’s Soccer vs Indiana University East\nStreaming Video: Watch livestream (during the event)
URL:https://earlham.edu/event/earlham-college-womens-soccer-vs-indiana-university-east/
LOCATION:Richmond\, IN\, Matlack-Messer Soccer Stadium\, Southwest G Street\, Richmond\, Indiana\, 47374\, United States
CATEGORIES:Athletics
GEO:39.8210734;-84.9145001
X-APPLE-STRUCTURED-LOCATION;VALUE=URI;X-ADDRESS=Richmond IN Matlack-Messer Soccer Stadium Southwest G Street Richmond Indiana 47374 United States;X-APPLE-RADIUS=500;X-TITLE=Southwest G Street:geo:-84.9145001,39.8210734
END:VEVENT
BEGIN:VEVENT
DTSTART;TZID=America/Indiana/Indianapolis:20250910T160000
DTEND;TZID=America/Indiana/Indianapolis:20250910T180000
DTSTAMP:20260419T081551
CREATED:20250820T195730Z
LAST-MODIFIED:20250911T233401Z
UID:10000182-1757520000-1757527200@earlham.edu
SUMMARY:Earlham College Women's Soccer vs Wilmington College
DESCRIPTION:Earlham College Women’s Soccer vs Wilmington College\nStreaming Video: Watch livestream (during the event)
URL:https://earlham.edu/event/earlham-college-womens-soccer-vs-wilmington-college/
LOCATION:Richmond\, IN\, Matlack-Messer Soccer Stadium\, Southwest G Street\, Richmond\, Indiana\, 47374\, United States
CATEGORIES:Athletics
GEO:39.8210734;-84.9145001
X-APPLE-STRUCTURED-LOCATION;VALUE=URI;X-ADDRESS=Richmond IN Matlack-Messer Soccer Stadium Southwest G Street Richmond Indiana 47374 United States;X-APPLE-RADIUS=500;X-TITLE=Southwest G Street:geo:-84.9145001,39.8210734
END:VEVENT
BEGIN:VEVENT
DTSTART;TZID=America/Indiana/Indianapolis:20250903T160000
DTEND;TZID=America/Indiana/Indianapolis:20250903T180000
DTSTAMP:20260419T081551
CREATED:20250820T195730Z
LAST-MODIFIED:20250911T233322Z
UID:10000188-1756915200-1756922400@earlham.edu
SUMMARY:Earlham College Men's Soccer vs Kuyper College
DESCRIPTION:Earlham College Men’s Soccer vs Kuyper College\nStreaming Video: Watch livestream (during the event)
URL:https://earlham.edu/event/earlham-college-mens-soccer-vs-kuyper-college-2/
LOCATION:Richmond\, IN\, Matlack-Messer Soccer Stadium\, Southwest G Street\, Richmond\, Indiana\, 47374\, United States
CATEGORIES:Athletics
GEO:39.8210734;-84.9145001
X-APPLE-STRUCTURED-LOCATION;VALUE=URI;X-ADDRESS=Richmond IN Matlack-Messer Soccer Stadium Southwest G Street Richmond Indiana 47374 United States;X-APPLE-RADIUS=500;X-TITLE=Southwest G Street:geo:-84.9145001,39.8210734
END:VEVENT
BEGIN:VEVENT
DTSTART;TZID=America/Indiana/Indianapolis:20250830T150000
DTEND;TZID=America/Indiana/Indianapolis:20250830T170000
DTSTAMP:20260419T081551
CREATED:20250820T195727Z
LAST-MODIFIED:20250911T233323Z
UID:10000180-1756566000-1756573200@earlham.edu
SUMMARY:Earlham College Men's Soccer vs Muskingum University
DESCRIPTION:Earlham College Men’s Soccer vs Muskingum University\nStreaming Video: Watch livestream (during the event)
URL:https://earlham.edu/event/earlham-college-mens-soccer-vs-muskingum-university/
LOCATION:Richmond\, IN\, Matlack-Messer Soccer Stadium\, Southwest G Street\, Richmond\, Indiana\, 47374\, United States
CATEGORIES:Athletics
GEO:39.8210734;-84.9145001
X-APPLE-STRUCTURED-LOCATION;VALUE=URI;X-ADDRESS=Richmond IN Matlack-Messer Soccer Stadium Southwest G Street Richmond Indiana 47374 United States;X-APPLE-RADIUS=500;X-TITLE=Southwest G Street:geo:-84.9145001,39.8210734
END:VEVENT
BEGIN:VEVENT
DTSTART;TZID=America/Indiana/Indianapolis:20250829T170000
DTEND;TZID=America/Indiana/Indianapolis:20250829T190000
DTSTAMP:20260419T081551
CREATED:20250820T195726Z
LAST-MODIFIED:20250911T233320Z
UID:10000179-1756486800-1756494000@earlham.edu
SUMMARY:Earlham College Men's Soccer vs Beloit College
DESCRIPTION:Earlham College Men’s Soccer vs Beloit College\nStreaming Video: Watch livestream (during the event)
URL:https://earlham.edu/event/earlham-college-mens-soccer-vs-beloit-college/
LOCATION:Richmond\, IN\, Matlack-Messer Soccer Stadium\, Southwest G Street\, Richmond\, Indiana\, 47374\, United States
CATEGORIES:Athletics
GEO:39.8210734;-84.9145001
X-APPLE-STRUCTURED-LOCATION;VALUE=URI;X-ADDRESS=Richmond IN Matlack-Messer Soccer Stadium Southwest G Street Richmond Indiana 47374 United States;X-APPLE-RADIUS=500;X-TITLE=Southwest G Street:geo:-84.9145001,39.8210734
END:VEVENT
BEGIN:VEVENT
DTSTART;TZID=America/Indiana/Indianapolis:20250829T143000
DTEND;TZID=America/Indiana/Indianapolis:20250829T163000
DTSTAMP:20260419T081551
CREATED:20250820T195724Z
LAST-MODIFIED:20250911T233357Z
UID:10000178-1756477800-1756485000@earlham.edu
SUMMARY:Earlham College Women's Soccer vs Alma College
DESCRIPTION:Earlham College Women’s Soccer vs Alma College\nStreaming Video: Watch livestream (during the event)
URL:https://earlham.edu/event/earlham-college-womens-soccer-vs-alma-college/
LOCATION:Richmond\, IN\, Matlack-Messer Soccer Stadium\, Southwest G Street\, Richmond\, Indiana\, 47374\, United States
CATEGORIES:Athletics
GEO:39.8210734;-84.9145001
X-APPLE-STRUCTURED-LOCATION;VALUE=URI;X-ADDRESS=Richmond IN Matlack-Messer Soccer Stadium Southwest G Street Richmond Indiana 47374 United States;X-APPLE-RADIUS=500;X-TITLE=Southwest G Street:geo:-84.9145001,39.8210734
END:VEVENT
END:VCALENDAR