
BEGIN:VCALENDAR
VERSION:2.0
PRODID:-//Earlham College - ECPv6.15.20//NONSGML v1.0//EN
CALSCALE:GREGORIAN
METHOD:PUBLISH
X-WR-CALNAME:Earlham College
X-ORIGINAL-URL:https://earlham.edu
X-WR-CALDESC:Events for Earlham College
REFRESH-INTERVAL;VALUE=DURATION:PT1H
X-Robots-Tag:noindex
X-PUBLISHED-TTL:PT1H
BEGIN:VTIMEZONE
TZID:America/Indiana/Indianapolis
BEGIN:DAYLIGHT
TZOFFSETFROM:-0500
TZOFFSETTO:-0400
TZNAME:EDT
DTSTART:20240310T070000
END:DAYLIGHT
BEGIN:STANDARD
TZOFFSETFROM:-0400
TZOFFSETTO:-0500
TZNAME:EST
DTSTART:20241103T060000
END:STANDARD
BEGIN:DAYLIGHT
TZOFFSETFROM:-0500
TZOFFSETTO:-0400
TZNAME:EDT
DTSTART:20250309T070000
END:DAYLIGHT
BEGIN:STANDARD
TZOFFSETFROM:-0400
TZOFFSETTO:-0500
TZNAME:EST
DTSTART:20251102T060000
END:STANDARD
BEGIN:DAYLIGHT
TZOFFSETFROM:-0500
TZOFFSETTO:-0400
TZNAME:EDT
DTSTART:20260308T070000
END:DAYLIGHT
BEGIN:STANDARD
TZOFFSETFROM:-0400
TZOFFSETTO:-0500
TZNAME:EST
DTSTART:20261101T060000
END:STANDARD
BEGIN:DAYLIGHT
TZOFFSETFROM:-0500
TZOFFSETTO:-0400
TZNAME:EDT
DTSTART:20270314T070000
END:DAYLIGHT
BEGIN:STANDARD
TZOFFSETFROM:-0400
TZOFFSETTO:-0500
TZNAME:EST
DTSTART:20271107T060000
END:STANDARD
END:VTIMEZONE
BEGIN:VEVENT
DTSTART;TZID=America/Indiana/Indianapolis:20260218T190000
DTEND;TZID=America/Indiana/Indianapolis:20260218T203000
DTSTAMP:20260420T134133
CREATED:20260128T161202Z
LAST-MODIFIED:20260128T161608Z
UID:10000373-1771441200-1771446600@earlham.edu
SUMMARY:An evening with former U.S. Secretary of Transportation Pete Buttigieg
DESCRIPTION:Join us for an evening with Pete Buttigieg\, who served from 2021 to 2025 as U.S. Secretary of Transportation\, where he worked to launch over seventy thousand infrastructure projects across the country\, improve transportation safety and technology\, strengthen airline passenger protections\, and address pandemic-related supply chain challenges. A Rhodes Scholar and Navy veteran\, Buttigieg previously served two terms as mayor of South Bend\, Indiana. He gained national attention during his historic presidential campaign and is now a leading voice on politics and public life. Get ticket and event information at earlham.edu/lecture-series/.
URL:https://earlham.edu/event/pete-buttigieg/
LOCATION:Richmond\, IN\, Druley Performance Gym\, West National Road 801\, Richmond\, Indiana\, 47374\, United States
CATEGORIES:Academic & College Events
GEO:39.8221268;-84.9120307
X-APPLE-STRUCTURED-LOCATION;VALUE=URI;X-ADDRESS=Richmond IN Druley Performance Gym West National Road 801 Richmond Indiana 47374 United States;X-APPLE-RADIUS=500;X-TITLE=West National Road 801:geo:-84.9120307,39.8221268
END:VEVENT
BEGIN:VEVENT
DTSTART;TZID=America/Indiana/Indianapolis:20251108T140000
DTEND;TZID=America/Indiana/Indianapolis:20251108T160000
DTSTAMP:20260420T134133
CREATED:20250820T195819Z
LAST-MODIFIED:20250911T233406Z
UID:10000222-1762610400-1762617600@earlham.edu
SUMMARY:Earlham College Women's Volleyball vs Mount St. Joseph University
DESCRIPTION:Earlham College Women’s Volleyball vs Mount St. Joseph University\nStreaming Video: Watch livestream (during the event)
URL:https://earlham.edu/event/earlham-college-womens-volleyball-vs-mount-st-joseph-university/
LOCATION:Richmond\, IN\, Druley Performance Gym\, West National Road 801\, Richmond\, Indiana\, 47374\, United States
CATEGORIES:Athletics
GEO:39.8221268;-84.9120307
X-APPLE-STRUCTURED-LOCATION;VALUE=URI;X-ADDRESS=Richmond IN Druley Performance Gym West National Road 801 Richmond Indiana 47374 United States;X-APPLE-RADIUS=500;X-TITLE=West National Road 801:geo:-84.9120307,39.8221268
END:VEVENT
BEGIN:VEVENT
DTSTART;TZID=America/Indiana/Indianapolis:20251105T190000
DTEND;TZID=America/Indiana/Indianapolis:20251105T210000
DTSTAMP:20260420T134133
CREATED:20250820T195818Z
LAST-MODIFIED:20250911T233437Z
UID:10000221-1762369200-1762376400@earlham.edu
SUMMARY:Earlham College Women's Volleyball vs Rose-Hulman
DESCRIPTION:Earlham College Women’s Volleyball vs Rose-Hulman\nStreaming Video: Watch livestream (during the event)
URL:https://earlham.edu/event/earlham-college-womens-volleyball-vs-rose-hulman/
LOCATION:Richmond\, IN\, Druley Performance Gym\, West National Road 801\, Richmond\, Indiana\, 47374\, United States
CATEGORIES:Athletics
GEO:39.8221268;-84.9120307
X-APPLE-STRUCTURED-LOCATION;VALUE=URI;X-ADDRESS=Richmond IN Druley Performance Gym West National Road 801 Richmond Indiana 47374 United States;X-APPLE-RADIUS=500;X-TITLE=West National Road 801:geo:-84.9120307,39.8221268
END:VEVENT
BEGIN:VEVENT
DTSTART;TZID=America/Indiana/Indianapolis:20251025T180000
DTEND;TZID=America/Indiana/Indianapolis:20251025T200000
DTSTAMP:20260420T134133
CREATED:20250820T195815Z
LAST-MODIFIED:20250911T233402Z
UID:10000219-1761415200-1761422400@earlham.edu
SUMMARY:Earlham College Women's Volleyball vs Albion College
DESCRIPTION:Earlham College Women’s Volleyball vs Albion College\nStreaming Video: Watch livestream (during the event)
URL:https://earlham.edu/event/earlham-college-womens-volleyball-vs-albion-college/
LOCATION:Richmond\, IN\, Druley Performance Gym\, West National Road 801\, Richmond\, Indiana\, 47374\, United States
CATEGORIES:Athletics
GEO:39.8221268;-84.9120307
X-APPLE-STRUCTURED-LOCATION;VALUE=URI;X-ADDRESS=Richmond IN Druley Performance Gym West National Road 801 Richmond Indiana 47374 United States;X-APPLE-RADIUS=500;X-TITLE=West National Road 801:geo:-84.9120307,39.8221268
END:VEVENT
BEGIN:VEVENT
DTSTART;TZID=America/Indiana/Indianapolis:20251025T140000
DTEND;TZID=America/Indiana/Indianapolis:20251025T160000
DTSTAMP:20260420T134133
CREATED:20250820T195813Z
LAST-MODIFIED:20250911T233406Z
UID:10000217-1761400800-1761408000@earlham.edu
SUMMARY:Earlham College Women's Volleyball vs Manchester University
DESCRIPTION:Earlham College Women’s Volleyball vs Manchester University\nStreaming Video: Watch livestream (during the event)
URL:https://earlham.edu/event/earlham-college-womens-volleyball-vs-manchester-university/
LOCATION:Richmond\, IN\, Druley Performance Gym\, West National Road 801\, Richmond\, Indiana\, 47374\, United States
CATEGORIES:Athletics
GEO:39.8221268;-84.9120307
X-APPLE-STRUCTURED-LOCATION;VALUE=URI;X-ADDRESS=Richmond IN Druley Performance Gym West National Road 801 Richmond Indiana 47374 United States;X-APPLE-RADIUS=500;X-TITLE=West National Road 801:geo:-84.9120307,39.8221268
END:VEVENT
BEGIN:VEVENT
DTSTART;TZID=America/Indiana/Indianapolis:20251022T190000
DTEND;TZID=America/Indiana/Indianapolis:20251022T210000
DTSTAMP:20260420T134133
CREATED:20250820T195808Z
LAST-MODIFIED:20250911T233403Z
UID:10000213-1761159600-1761166800@earlham.edu
SUMMARY:Earlham College Women's Volleyball vs Bluffton University
DESCRIPTION:Earlham College Women’s Volleyball vs Bluffton University\nStreaming Video: Watch livestream (during the event)
URL:https://earlham.edu/event/earlham-college-womens-volleyball-vs-bluffton-university/
LOCATION:Richmond\, IN\, Druley Performance Gym\, West National Road 801\, Richmond\, Indiana\, 47374\, United States
CATEGORIES:Athletics
GEO:39.8221268;-84.9120307
X-APPLE-STRUCTURED-LOCATION;VALUE=URI;X-ADDRESS=Richmond IN Druley Performance Gym West National Road 801 Richmond Indiana 47374 United States;X-APPLE-RADIUS=500;X-TITLE=West National Road 801:geo:-84.9120307,39.8221268
END:VEVENT
BEGIN:VEVENT
DTSTART;TZID=America/Indiana/Indianapolis:20251011T140000
DTEND;TZID=America/Indiana/Indianapolis:20251011T160000
DTSTAMP:20260420T134133
CREATED:20250820T195759Z
LAST-MODIFIED:20250911T233438Z
UID:10000207-1760191200-1760198400@earlham.edu
SUMMARY:Earlham College Women's Volleyball vs Transylvania University
DESCRIPTION:Earlham College Women’s Volleyball vs Transylvania University\nStreaming Video: Watch livestream (during the event)
URL:https://earlham.edu/event/earlham-college-womens-volleyball-vs-transylvania-university/
LOCATION:Richmond\, IN\, Druley Performance Gym\, West National Road 801\, Richmond\, Indiana\, 47374\, United States
CATEGORIES:Athletics
GEO:39.8221268;-84.9120307
X-APPLE-STRUCTURED-LOCATION;VALUE=URI;X-ADDRESS=Richmond IN Druley Performance Gym West National Road 801 Richmond Indiana 47374 United States;X-APPLE-RADIUS=500;X-TITLE=West National Road 801:geo:-84.9120307,39.8221268
END:VEVENT
BEGIN:VEVENT
DTSTART;TZID=America/Indiana/Indianapolis:20251007T190000
DTEND;TZID=America/Indiana/Indianapolis:20251007T210000
DTSTAMP:20260420T134133
CREATED:20250820T195753Z
LAST-MODIFIED:20250911T233437Z
UID:10000202-1759863600-1759870800@earlham.edu
SUMMARY:Earlham College Women's Volleyball vs Ohio Wesleyan University
DESCRIPTION:Earlham College Women’s Volleyball vs Ohio Wesleyan University\nStreaming Video: Watch livestream (during the event)
URL:https://earlham.edu/event/earlham-college-womens-volleyball-vs-ohio-wesleyan-university/
LOCATION:Richmond\, IN\, Druley Performance Gym\, West National Road 801\, Richmond\, Indiana\, 47374\, United States
CATEGORIES:Athletics
GEO:39.8221268;-84.9120307
X-APPLE-STRUCTURED-LOCATION;VALUE=URI;X-ADDRESS=Richmond IN Druley Performance Gym West National Road 801 Richmond Indiana 47374 United States;X-APPLE-RADIUS=500;X-TITLE=West National Road 801:geo:-84.9120307,39.8221268
END:VEVENT
BEGIN:VEVENT
DTSTART;TZID=America/Indiana/Indianapolis:20250924T190000
DTEND;TZID=America/Indiana/Indianapolis:20250924T210000
DTSTAMP:20260420T134133
CREATED:20250820T195800Z
LAST-MODIFIED:20250911T233404Z
UID:10000194-1758740400-1758747600@earlham.edu
SUMMARY:Earlham College Women's Volleyball vs Capital University
DESCRIPTION:Earlham College Women’s Volleyball vs Capital University\nStreaming Video: Watch livestream (during the event)
URL:https://earlham.edu/event/earlham-college-womens-volleyball-vs-capital-university-2/
LOCATION:Richmond\, IN\, Druley Performance Gym\, West National Road 801\, Richmond\, Indiana\, 47374\, United States
CATEGORIES:Athletics
GEO:39.8221268;-84.9120307
X-APPLE-STRUCTURED-LOCATION;VALUE=URI;X-ADDRESS=Richmond IN Druley Performance Gym West National Road 801 Richmond Indiana 47374 United States;X-APPLE-RADIUS=500;X-TITLE=West National Road 801:geo:-84.9120307,39.8221268
END:VEVENT
BEGIN:VEVENT
DTSTART;TZID=America/Indiana/Indianapolis:20250916T190000
DTEND;TZID=America/Indiana/Indianapolis:20250916T210000
DTSTAMP:20260420T134133
CREATED:20250820T195745Z
LAST-MODIFIED:20250911T233407Z
UID:10000196-1758049200-1758056400@earlham.edu
SUMMARY:Earlham College Women's Volleyball vs Ohio Northern University
DESCRIPTION:Earlham College Women’s Volleyball vs Ohio Northern University\nStreaming Video: Watch livestream (during the event)
URL:https://earlham.edu/event/earlham-college-womens-volleyball-vs-ohio-northern-university/
LOCATION:Richmond\, IN\, Druley Performance Gym\, West National Road 801\, Richmond\, Indiana\, 47374\, United States
CATEGORIES:Athletics
GEO:39.8221268;-84.9120307
X-APPLE-STRUCTURED-LOCATION;VALUE=URI;X-ADDRESS=Richmond IN Druley Performance Gym West National Road 801 Richmond Indiana 47374 United States;X-APPLE-RADIUS=500;X-TITLE=West National Road 801:geo:-84.9120307,39.8221268
END:VEVENT
BEGIN:VEVENT
DTSTART;TZID=America/Indiana/Indianapolis:20250913T150000
DTEND;TZID=America/Indiana/Indianapolis:20250913T170000
DTSTAMP:20260420T134133
CREATED:20250820T195734Z
LAST-MODIFIED:20250911T233405Z
UID:10000185-1757775600-1757782800@earlham.edu
SUMMARY:Earlham College Women's Volleyball vs Heidelberg University
DESCRIPTION:Earlham College Women’s Volleyball vs Heidelberg University\nStreaming Video: Watch livestream (during the event)
URL:https://earlham.edu/event/earlham-college-womens-volleyball-vs-heidelberg-university/
LOCATION:Richmond\, IN\, Druley Performance Gym\, West National Road 801\, Richmond\, Indiana\, 47374\, United States
CATEGORIES:Athletics
GEO:39.8221268;-84.9120307
X-APPLE-STRUCTURED-LOCATION;VALUE=URI;X-ADDRESS=Richmond IN Druley Performance Gym West National Road 801 Richmond Indiana 47374 United States;X-APPLE-RADIUS=500;X-TITLE=West National Road 801:geo:-84.9120307,39.8221268
END:VEVENT
BEGIN:VEVENT
DTSTART;TZID=America/Indiana/Indianapolis:20250913T110000
DTEND;TZID=America/Indiana/Indianapolis:20250913T130000
DTSTAMP:20260420T134133
CREATED:20250820T195738Z
LAST-MODIFIED:20250911T233403Z
UID:10000189-1757761200-1757768400@earlham.edu
SUMMARY:Earlham College Women's Volleyball vs Alma College
DESCRIPTION:Earlham College Women’s Volleyball vs Alma College\nStreaming Video: Watch livestream (during the event)
URL:https://earlham.edu/event/earlham-college-womens-volleyball-vs-alma-college/
LOCATION:Richmond\, IN\, Druley Performance Gym\, West National Road 801\, Richmond\, Indiana\, 47374\, United States
CATEGORIES:Athletics
GEO:39.8221268;-84.9120307
X-APPLE-STRUCTURED-LOCATION;VALUE=URI;X-ADDRESS=Richmond IN Druley Performance Gym West National Road 801 Richmond Indiana 47374 United States;X-APPLE-RADIUS=500;X-TITLE=West National Road 801:geo:-84.9120307,39.8221268
END:VEVENT
BEGIN:VEVENT
DTSTART;TZID=America/Indiana/Indianapolis:20250912T190000
DTEND;TZID=America/Indiana/Indianapolis:20250912T210000
DTSTAMP:20260420T134133
CREATED:20250820T195731Z
LAST-MODIFIED:20250911T233405Z
UID:10000183-1757703600-1757710800@earlham.edu
SUMMARY:Earlham College Women's Volleyball vs Kenyon College
DESCRIPTION:Earlham College Women’s Volleyball vs Kenyon College\nStreaming Video: Watch livestream (during the event)
URL:https://earlham.edu/event/earlham-college-womens-volleyball-vs-kenyon-college/
LOCATION:Richmond\, IN\, Druley Performance Gym\, West National Road 801\, Richmond\, Indiana\, 47374\, United States
CATEGORIES:Athletics
GEO:39.8221268;-84.9120307
X-APPLE-STRUCTURED-LOCATION;VALUE=URI;X-ADDRESS=Richmond IN Druley Performance Gym West National Road 801 Richmond Indiana 47374 United States;X-APPLE-RADIUS=500;X-TITLE=West National Road 801:geo:-84.9120307,39.8221268
END:VEVENT
BEGIN:VEVENT
DTSTART;TZID=America/Indiana/Indianapolis:20250912T170000
DTEND;TZID=America/Indiana/Indianapolis:20250912T190000
DTSTAMP:20260420T134133
CREATED:20250820T195733Z
LAST-MODIFIED:20250911T233404Z
UID:10000184-1757696400-1757703600@earlham.edu
SUMMARY:Earlham College Women's Volleyball vs Denison University
DESCRIPTION:Earlham College Women’s Volleyball vs Denison University\nStreaming Video: Watch livestream (during the event)
URL:https://earlham.edu/event/earlham-college-womens-volleyball-vs-denison-university/
LOCATION:Richmond\, IN\, Druley Performance Gym\, West National Road 801\, Richmond\, Indiana\, 47374\, United States
CATEGORIES:Athletics
GEO:39.8221268;-84.9120307
X-APPLE-STRUCTURED-LOCATION;VALUE=URI;X-ADDRESS=Richmond IN Druley Performance Gym West National Road 801 Richmond Indiana 47374 United States;X-APPLE-RADIUS=500;X-TITLE=West National Road 801:geo:-84.9120307,39.8221268
END:VEVENT
END:VCALENDAR