
BEGIN:VCALENDAR
VERSION:2.0
PRODID:-//Earlham College - ECPv6.15.20//NONSGML v1.0//EN
CALSCALE:GREGORIAN
METHOD:PUBLISH
X-WR-CALNAME:Earlham College
X-ORIGINAL-URL:https://earlham.edu
X-WR-CALDESC:Events for Earlham College
REFRESH-INTERVAL;VALUE=DURATION:PT1H
X-Robots-Tag:noindex
X-PUBLISHED-TTL:PT1H
BEGIN:VTIMEZONE
TZID:America/Indiana/Indianapolis
BEGIN:DAYLIGHT
TZOFFSETFROM:-0500
TZOFFSETTO:-0400
TZNAME:EDT
DTSTART:20240310T070000
END:DAYLIGHT
BEGIN:STANDARD
TZOFFSETFROM:-0400
TZOFFSETTO:-0500
TZNAME:EST
DTSTART:20241103T060000
END:STANDARD
BEGIN:DAYLIGHT
TZOFFSETFROM:-0500
TZOFFSETTO:-0400
TZNAME:EDT
DTSTART:20250309T070000
END:DAYLIGHT
BEGIN:STANDARD
TZOFFSETFROM:-0400
TZOFFSETTO:-0500
TZNAME:EST
DTSTART:20251102T060000
END:STANDARD
BEGIN:DAYLIGHT
TZOFFSETFROM:-0500
TZOFFSETTO:-0400
TZNAME:EDT
DTSTART:20260308T070000
END:DAYLIGHT
BEGIN:STANDARD
TZOFFSETFROM:-0400
TZOFFSETTO:-0500
TZNAME:EST
DTSTART:20261101T060000
END:STANDARD
BEGIN:DAYLIGHT
TZOFFSETFROM:-0500
TZOFFSETTO:-0400
TZNAME:EDT
DTSTART:20270314T070000
END:DAYLIGHT
BEGIN:STANDARD
TZOFFSETFROM:-0400
TZOFFSETTO:-0500
TZNAME:EST
DTSTART:20271107T060000
END:STANDARD
END:VTIMEZONE
BEGIN:VEVENT
DTSTART;TZID=America/Indiana/Indianapolis:20260414T090000
DTEND;TZID=America/Indiana/Indianapolis:20260414T160000
DTSTAMP:20260423T141108
CREATED:20250821T131408Z
LAST-MODIFIED:20250821T131411Z
UID:10000240-1776157200-1776182400@earlham.edu
SUMMARY:Blood Drive
DESCRIPTION:
URL:https://earlham.edu/event/blood-drive-4/
LOCATION:Comstock Room\, SW G St\, Richmond\, IN\, 47374\, United States
CATEGORIES:Campus Life
GEO:39.8210682;-84.9128172
X-APPLE-STRUCTURED-LOCATION;VALUE=URI;X-ADDRESS=Comstock Room SW G St Richmond IN 47374 United States;X-APPLE-RADIUS=500;X-TITLE=SW G St:geo:-84.9128172,39.8210682
END:VEVENT
BEGIN:VEVENT
DTSTART;TZID=America/Indiana/Indianapolis:20260210T090000
DTEND;TZID=America/Indiana/Indianapolis:20260210T160000
DTSTAMP:20260423T141108
CREATED:20250821T131154Z
LAST-MODIFIED:20250821T131156Z
UID:10000239-1770714000-1770739200@earlham.edu
SUMMARY:Blood Drive
DESCRIPTION:
URL:https://earlham.edu/event/blood-drive-3/
LOCATION:Comstock Room\, SW G St\, Richmond\, IN\, 47374\, United States
CATEGORIES:Campus Life
GEO:39.8210682;-84.9128172
X-APPLE-STRUCTURED-LOCATION;VALUE=URI;X-ADDRESS=Comstock Room SW G St Richmond IN 47374 United States;X-APPLE-RADIUS=500;X-TITLE=SW G St:geo:-84.9128172,39.8210682
END:VEVENT
BEGIN:VEVENT
DTSTART;TZID=America/Indiana/Indianapolis:20251113T090000
DTEND;TZID=America/Indiana/Indianapolis:20251113T160000
DTSTAMP:20260423T141108
CREATED:20250821T131042Z
LAST-MODIFIED:20250821T131045Z
UID:10000238-1763024400-1763049600@earlham.edu
SUMMARY:Blood Drive
DESCRIPTION:
URL:https://earlham.edu/event/blood-drive-2/
LOCATION:Comstock Room\, SW G St\, Richmond\, IN\, 47374\, United States
CATEGORIES:Campus Life
GEO:39.8210682;-84.9128172
X-APPLE-STRUCTURED-LOCATION;VALUE=URI;X-ADDRESS=Comstock Room SW G St Richmond IN 47374 United States;X-APPLE-RADIUS=500;X-TITLE=SW G St:geo:-84.9128172,39.8210682
END:VEVENT
BEGIN:VEVENT
DTSTART;TZID=America/Indiana/Indianapolis:20250918T090000
DTEND;TZID=America/Indiana/Indianapolis:20250918T160000
DTSTAMP:20260423T141108
CREATED:20250821T130929Z
LAST-MODIFIED:20250912T123102Z
UID:10000237-1758186000-1758211200@earlham.edu
SUMMARY:Blood Drive
DESCRIPTION:Sign up today to participate in our upcoming Blood Drive. Your donation can make a life-changing difference for someone in need. Reserve your spot today!
URL:https://earlham.edu/event/blood-drive/
LOCATION:Comstock Room\, SW G St\, Richmond\, IN\, 47374\, United States
CATEGORIES:Campus Life
GEO:39.8210682;-84.9128172
X-APPLE-STRUCTURED-LOCATION;VALUE=URI;X-ADDRESS=Comstock Room SW G St Richmond IN 47374 United States;X-APPLE-RADIUS=500;X-TITLE=SW G St:geo:-84.9128172,39.8210682
END:VEVENT
BEGIN:VEVENT
DTSTART;TZID=America/Indiana/Indianapolis:20250829T220000
DTEND;TZID=America/Indiana/Indianapolis:20250829T235900
DTSTAMP:20260423T141108
CREATED:20250820T155004Z
LAST-MODIFIED:20250820T155007Z
UID:10000171-1756504800-1756511940@earlham.edu
SUMMARY:Sober Silent Rave
DESCRIPTION:
URL:https://earlham.edu/event/sober-silent-rave/
LOCATION:Comstock Room\, SW G St\, Richmond\, IN\, 47374\, United States
CATEGORIES:Campus Life
GEO:39.8210682;-84.9128172
X-APPLE-STRUCTURED-LOCATION;VALUE=URI;X-ADDRESS=Comstock Room SW G St Richmond IN 47374 United States;X-APPLE-RADIUS=500;X-TITLE=SW G St:geo:-84.9128172,39.8210682
END:VEVENT
END:VCALENDAR