
BEGIN:VCALENDAR
VERSION:2.0
PRODID:-//Earlham College - ECPv6.15.20//NONSGML v1.0//EN
CALSCALE:GREGORIAN
METHOD:PUBLISH
X-ORIGINAL-URL:https://earlham.edu
X-WR-CALDESC:Events for Earlham College
REFRESH-INTERVAL;VALUE=DURATION:PT1H
X-Robots-Tag:noindex
X-PUBLISHED-TTL:PT1H
BEGIN:VTIMEZONE
TZID:America/Indiana/Indianapolis
BEGIN:DAYLIGHT
TZOFFSETFROM:-0500
TZOFFSETTO:-0400
TZNAME:EDT
DTSTART:20220313T070000
END:DAYLIGHT
BEGIN:STANDARD
TZOFFSETFROM:-0400
TZOFFSETTO:-0500
TZNAME:EST
DTSTART:20221106T060000
END:STANDARD
BEGIN:DAYLIGHT
TZOFFSETFROM:-0500
TZOFFSETTO:-0400
TZNAME:EDT
DTSTART:20230312T070000
END:DAYLIGHT
BEGIN:STANDARD
TZOFFSETFROM:-0400
TZOFFSETTO:-0500
TZNAME:EST
DTSTART:20231105T060000
END:STANDARD
BEGIN:DAYLIGHT
TZOFFSETFROM:-0500
TZOFFSETTO:-0400
TZNAME:EDT
DTSTART:20240310T070000
END:DAYLIGHT
BEGIN:STANDARD
TZOFFSETFROM:-0400
TZOFFSETTO:-0500
TZNAME:EST
DTSTART:20241103T060000
END:STANDARD
END:VTIMEZONE
BEGIN:VEVENT
DTSTART;TZID=America/Indiana/Indianapolis:20230422T090000
DTEND;TZID=America/Indiana/Indianapolis:20230422T141500
DTSTAMP:20260419T095938
CREATED:20230314T131807Z
LAST-MODIFIED:20230420T180635Z
UID:10000039-1682154000-1682172900@earlham.edu
SUMMARY:Junior Preview Day
DESCRIPTION:Get insider tips on applying to college\, learn how to make college affordable and explore Earlham’s campus. For the full schedule\, please see below: 8:45–9:15 a.m. | Check-in Landrum Bolling Center (LBC) lobby Please park in the lot between Landrum Bolling Center (LBC) and Carpenter Hall. Students and employees will be there to help you find the check-in table.  9:15–10 a.m. | Welcome & Earlham overview Loose Lecture Hall (LBC 105) Erin Hutchinson\, assistant VP for enrollment management\, will give a welcome speech before our Earlham Kahoot information session (with opportunities to win prizes!) begins.  10:15–11:15 a.m. Group A: Campus tour Meet in LBC lobby Complete a scavenger hunt while touring campus with current students and staff for a chance to win prizes. Group B: Case studies Richmond Room (LBC) & Center for Science and Technology (CST) 103 Learn more about the college application process with an interactive review by our admissions staff.  11:15 a.m.–noon | Lunch Earlham Dining Hall – Friends Room (enter through Earlham Hall or the Runyan Center) Join us for lunch in the dining hall and take advantage of the buffet-style dining! You can also check out the campus store (down the hall) when you’re finished.12:15–1:15 p.m. Group A: Case studies Richmond Room (LBC) & Center for Science and Technology (CST) 103 Learn more about the college application process with an interactive review by our admissions staff. Group B: Campus tour Meet in LBC lobby Complete a scavenger hunt while touring campus with current students and staff for a chance to win prizes.  1:30–2 p.m. | Financial aid & scholarships Loose Lecture Hall (LBC 105) Kathy Gottschalk\, assistant VP for financial aid\, will give a presentation on financial aid and scholarship opportunities at Earlham College.  2–2:15 p.m. | Go out and Find Your Fit Loose Lecture Hall (LBC 105) Finish the day with some closing remarks from Erin Hutchinson and receive a special gift for participating in Junior Preview Day (hint: it involves Earlham swag). \nRegister for Junior Preview Day
URL:https://earlham.edu/event/junior-preview-day/
CATEGORIES:Admissions & Campus Visits
END:VEVENT
END:VCALENDAR